BEGIN:VCALENDAR
VERSION:2.0
PRODID:-//Library Market//iCal Export//EN
BEGIN:VEVENT
SUMMARY:Community Resource Pop Up with MDHHS
UID:9995
DTSTAMP:20260425T204700Z
DTSTART:20260506T140000Z
DTEND:20260506T163000Z
LOCATION:Petoskey District Library, 500 E Mitchell St, Petoskey, MI 49770,
  United States
ROOM: Lobby
DESCRIPTION:Michigan Department of Health and Human Services will be avail
 able in the lobby to offer resources and answer questions on environmental
  health education, particularly geared toward the warmer weather months. 
URL:https://petoskey.librarycalendar.com/event/community-resource-pop-mdhh
 s-9995
END:VEVENT
END:VCALENDAR
