BEGIN:VCALENDAR
VERSION:2.0
PRODID:-//Library Market//iCal Export//EN
BEGIN:VEVENT
SUMMARY:Blocking off space for North-South Rail Program
UID:9897
DTSTAMP:20260425T164900Z
DTSTART:20260514T203000Z
DTEND:20260514T220000Z
LOCATION:451 E Mitchell St, Petoskey, MI 49770, United States
ROOM: Upper Carnegie
DESCRIPTION:Blocking off the space so setup for North-South Rail Project p
 rogram
URL:https://petoskey.librarycalendar.com/event/blocking-space-north-south-
 rail-program-9897
END:VEVENT
END:VCALENDAR
